BEGIN:VCALENDAR
VERSION:2.0
PRODID:-//Tukios.com/
BEGIN:VEVENT
UID:ec442db9-c659-4578-b28d-e30404130ef2@www.inspiredlifememorials.com
DTSTAMP:20260423T034818Z
DTSTART:20260427T230000Z
DTEND:20260428T010000Z
SUMMARY:Memorial Service
DESCRIPTION:
URL:https://www.inspiredlifememorials.com/obituaries/mark-caldwell
LOCATION: 311 N. BUFFALO DR. SUITE B  Las Vegas NV 89145
GEO:36.1760476;-115.2608249
END:VEVENT
END:VCALENDAR