BEGIN:VCALENDAR
VERSION:2.0
PRODID:-//Tukios.com/
BEGIN:VEVENT
UID:bcf303c9-4f29-46a0-bc2a-dba8b3e7ba80@www.inspiredlifememorials.com
DTSTAMP:20260422T024505Z
DTSTART:20260424T190000Z
DTEND:20260424T210000Z
SUMMARY:Funeral Service
DESCRIPTION:
URL:https://www.inspiredlifememorials.com/obituaries/millicent-highsmith
LOCATION: 311 N. BUFFALO DR. SUITE B  Las Vegas NV 89145
GEO:36.1760476;-115.2608249
END:VEVENT
END:VCALENDAR