BEGIN:VCALENDAR
VERSION:2.0
PRODID:-//Tukios.com/
BEGIN:VEVENT
UID:784e1fde-db62-4860-8ebf-5fe9dacdf0e0@www.inspiredlifememorials.com
DTSTAMP:20260423T122030Z
DTSTART:20260425T160000Z
DTEND:20260425T180000Z
SUMMARY:Funeral Service
DESCRIPTION:
URL:https://www.inspiredlifememorials.com/obituaries/simeon-young
LOCATION: 311 N. BUFFALO DR. SUITE B  Las Vegas NV 89145
GEO:36.1760476;-115.2608249
END:VEVENT
END:VCALENDAR